BEGIN:VCALENDAR
VERSION:2.0
PRODID:SchoolNow
CALSCALE:GREGORIAN
BEGIN:VEVENT
UID:60062eba-acad-11f0-8982-0a58a9feac02
DTSTAMP:20251216T214637Z
SUMMARY:Eagles Classic
URL;VALUE=URI:https://www.brookfieldchristian.org/athletics/basketball-5th-
 girls/calendar/8732887/eagles-classic
DTSTART:20260128T180000Z
DTEND:20260131T190000Z
END:VEVENT
END:VCALENDAR
