BEGIN:VCALENDAR
VERSION:2.0
PRODID:SchoolNow
CALSCALE:GREGORIAN
BEGIN:VEVENT
UID:60065ade-acad-11f0-8ac1-0a58a9feac02
DTSTAMP:20251216T214637Z
SUMMARY:5th Girls Basketball Practice
URL;VALUE=URI:https://www.brookfieldchristian.org/athletics/basketball-5th-
 girls/calendar/8732912/5th-girls-basketball-practice
DTSTART:20251205T213000Z
DTEND:20251205T230000Z
END:VEVENT
END:VCALENDAR
