BEGIN:VCALENDAR
VERSION:2.0
PRODID:SchoolNow
CALSCALE:GREGORIAN
BEGIN:VEVENT
UID:60065f3e-acad-11f0-a57f-0a58a9feac02
DTSTAMP:20251216T214637Z
SUMMARY:5th Girls Basketball Practice
URL;VALUE=URI:https://www.brookfieldchristian.org/athletics/basketball-5th-
 girls/calendar/8732917/5th-girls-basketball-practice
DTSTART:20251223T213000Z
DTEND:20251223T230000Z
END:VEVENT
END:VCALENDAR
