BEGIN:VCALENDAR
VERSION:2.0
PRODID:SchoolNow
CALSCALE:GREGORIAN
BEGIN:VEVENT
UID:6006661e-acad-11f0-89c9-0a58a9feac02
DTSTAMP:20251216T214637Z
SUMMARY:5th Girls Basketball Practice
URL;VALUE=URI:https://www.brookfieldchristian.org/athletics/basketball-5th-
 girls/calendar/8732926/5th-girls-basketball-practice
DTSTART:20260120T213000Z
DTEND:20260120T230000Z
END:VEVENT
END:VCALENDAR
