BEGIN:VCALENDAR
VERSION:2.0
PRODID:SchoolNow
CALSCALE:GREGORIAN
BEGIN:VEVENT
UID:d5791e86-ae2a-11f0-9196-020839c20a0b
DTSTAMP:20251216T214637Z
SUMMARY:5th Girls Game Vs Trinity Freidstadt
URL;VALUE=URI:https://www.brookfieldchristian.org/athletics/basketball-5th-
 girls/calendar/8737236/5th-girls-game-vs-trinity-freidstadt
DTSTART:20251120T223000Z
DTEND:20251120T233000Z
END:VEVENT
END:VCALENDAR
