BEGIN:VCALENDAR
VERSION:2.0
PRODID:SchoolNow
CALSCALE:GREGORIAN
BEGIN:VEVENT
UID:d57921d8-ae2a-11f0-8c3c-020839c20a0b
DTSTAMP:20251216T214637Z
SUMMARY:5th Girls Game vs St Paul’s
URL;VALUE=URI:https://www.brookfieldchristian.org/athletics/basketball-5th-
 girls/calendar/8737237/5th-girls-game-vs-st-paul-s
DTSTART:20251201T221500Z
DTEND:20251201T231500Z
END:VEVENT
END:VCALENDAR
