BEGIN:VCALENDAR
VERSION:2.0
PRODID:SchoolNow
CALSCALE:GREGORIAN
BEGIN:VEVENT
UID:cf3901b4-aec3-11f0-abb4-0a58a9feac02
DTSTAMP:20251216T214637Z
SUMMARY:5th Girls Game vs Divine Redeemer
URL;VALUE=URI:https://www.brookfieldchristian.org/athletics/basketball-5th-
 girls/calendar/8740007/5th-girls-game-vs-divine-redeemer
DTSTART:20251215T223000Z
DTEND:20251215T233000Z
END:VEVENT
END:VCALENDAR
