BEGIN:VCALENDAR
VERSION:2.0
PRODID:SchoolNow
CALSCALE:GREGORIAN
BEGIN:VEVENT
UID:cf390510-aec3-11f0-903b-0a58a9feac02
DTSTAMP:20251216T214637Z
SUMMARY:5th Girls Game Vs Immanuel Lutheran
URL;VALUE=URI:https://www.brookfieldchristian.org/athletics/basketball-5th-
 girls/calendar/8740008/5th-girls-game-vs-immanuel-lutheran
DTSTART:20251218T223000Z
DTEND:20251218T233000Z
END:VEVENT
END:VCALENDAR
