BEGIN:VCALENDAR
VERSION:2.0
PRODID:SchoolNow
CALSCALE:GREGORIAN
BEGIN:VEVENT
UID:cf39065a-aec3-11f0-87db-0a58a9feac02
DTSTAMP:20251216T214637Z
SUMMARY:5th Girls Game Vs Hales Corners
URL;VALUE=URI:https://www.brookfieldchristian.org/athletics/basketball-5th-
 girls/calendar/8740009/5th-girls-game-vs-hales-corners
DTSTART:20251208T223000Z
DTEND:20251208T233000Z
END:VEVENT
END:VCALENDAR
