BEGIN:VCALENDAR
VERSION:2.0
PRODID:SchoolNow
CALSCALE:GREGORIAN
BEGIN:VEVENT
UID:ce0a82da-aef6-11f0-942c-0affd60fb68d
DTSTAMP:20251216T214637Z
SUMMARY:5th Girls Game @ Divine Redeemer
LOCATION:Divine Redeemer Lutheran School\, 31385 Hill Rd\, Hartland\, WI 53
 029\, USA
URL;VALUE=URI:https://www.brookfieldchristian.org/athletics/basketball-5th-
 girls/calendar/8740999/5th-girls-game-divine-redeemer
DTSTART:20260106T233000Z
DTEND:20260107T003000Z
END:VEVENT
END:VCALENDAR
