BEGIN:VCALENDAR
VERSION:2.0
PRODID:SchoolNow
CALSCALE:GREGORIAN
BEGIN:VEVENT
UID:ce0a86c2-aef6-11f0-939c-0affd60fb68d
DTSTAMP:20251216T214637Z
SUMMARY:5th Girls Game @ St Paul’s Grafton
LOCATION:St. Paul Lutheran Church and School\, 701 Washington St\, Grafton\
 , WI 53024\, USA
URL;VALUE=URI:https://www.brookfieldchristian.org/athletics/basketball-5th-
 girls/calendar/8741000/5th-girls-game-st-paul-s-grafton
DTSTART:20260108T223000Z
DTEND:20260108T233000Z
END:VEVENT
END:VCALENDAR
