BEGIN:VCALENDAR
VERSION:2.0
PRODID:SchoolNow
CALSCALE:GREGORIAN
BEGIN:VEVENT
UID:ce0a896a-aef6-11f0-8346-0affd60fb68d
DTSTAMP:20251216T214637Z
SUMMARY:5th Girls Game vs St Marcus
URL;VALUE=URI:https://www.brookfieldchristian.org/athletics/basketball-5th-
 girls/calendar/8741002/5th-girls-game-vs-st-marcus
DTSTART:20260112T223000Z
DTEND:20260112T233000Z
END:VEVENT
END:VCALENDAR
