BEGIN:VCALENDAR
VERSION:2.0
PRODID:SchoolNow
CALSCALE:GREGORIAN
BEGIN:VEVENT
UID:ce0a8ad2-aef6-11f0-9b84-0affd60fb68d
DTSTAMP:20251216T214637Z
SUMMARY:5th Girls Game @ Grace Lutheran
LOCATION:Grace Evangelical Lutheran School\, N87W16173 Kenwood Blvd\, Menom
 onee Falls\, WI 53051\, USA
URL;VALUE=URI:https://www.brookfieldchristian.org/athletics/basketball-5th-
 girls/calendar/8741003/5th-girls-game-grace-lutheran
DTSTART:20260113T223000Z
DTEND:20260113T233000Z
END:VEVENT
END:VCALENDAR
