BEGIN:VCALENDAR
VERSION:2.0
PRODID:SchoolNow
CALSCALE:GREGORIAN
BEGIN:VEVENT
UID:ce0a8c30-aef6-11f0-a773-0affd60fb68d
DTSTAMP:20251216T214637Z
SUMMARY:5th Girls Game @ Brookfield Academy
LOCATION:Brookfield Academy\, 3462 N Brookfield Rd\, Brookfield\, WI 53045\
 , USA
URL;VALUE=URI:https://www.brookfieldchristian.org/athletics/basketball-5th-
 girls/calendar/8741004/5th-girls-game-brookfield-academy
DTSTART:20260119T220000Z
DTEND:20260119T230000Z
END:VEVENT
END:VCALENDAR
