BEGIN:VCALENDAR
VERSION:2.0
PRODID:SchoolNow
CALSCALE:GREGORIAN
BEGIN:VEVENT
UID:ce0a8d34-aef6-11f0-acc8-0affd60fb68d
DTSTAMP:20251216T214637Z
SUMMARY:5th Girls Game Vs FIL - Cedarburg
URL;VALUE=URI:https://www.brookfieldchristian.org/athletics/basketball-5th-
 girls/calendar/8741005/5th-girls-game-vs-fil-cedarburg
DTSTART:20260122T223000Z
DTEND:20260122T233000Z
END:VEVENT
END:VCALENDAR
