BEGIN:VCALENDAR
VERSION:2.0
PRODID:SchoolNow
CALSCALE:GREGORIAN
BEGIN:VEVENT
UID:ce0a8f1e-aef6-11f0-8025-0affd60fb68d
DTSTAMP:20251216T214637Z
SUMMARY:5th Girls Game @ Star of Bethlehem
LOCATION:Star of Bethlehem Lutheran School\, 3700 S Casper Dr\, New Berlin\
 , WI 53151\, USA
URL;VALUE=URI:https://www.brookfieldchristian.org/athletics/basketball-5th-
 girls/calendar/8741007/5th-girls-game-star-of-bethlehem
DTSTART:20260203T220000Z
DTEND:20260203T230000Z
END:VEVENT
END:VCALENDAR
