BEGIN:VCALENDAR
VERSION:2.0
PRODID:SchoolNow
CALSCALE:GREGORIAN
BEGIN:VEVENT
UID:00cec186-c117-11f0-b39c-0ec376499b53
DTSTAMP:20251216T214637Z
SUMMARY:5th Girls Basketball Practice
URL;VALUE=URI:https://www.brookfieldchristian.org/athletics/basketball-5th-
 girls/calendar/8794896/5th-girls-basketball-practice
DTSTART:20251204T213000Z
DTEND:20251204T230000Z
END:VEVENT
END:VCALENDAR
