BEGIN:VCALENDAR
VERSION:2.0
PRODID:SchoolNow
CALSCALE:GREGORIAN
BEGIN:VEVENT
UID:6921501e-cd3d-11f0-bd97-02a2ea806e61
DTSTAMP:20251216T214637Z
SUMMARY:5th Girls Vs SWCHA
URL;VALUE=URI:https://www.brookfieldchristian.org/athletics/basketball-5th-
 girls/calendar/8812778/5th-girls-vs-swcha
DTSTART:20260205T220000Z
DTEND:20260205T230000Z
END:VEVENT
END:VCALENDAR
