BEGIN:VCALENDAR
VERSION:2.0
PRODID:SchoolNow
CALSCALE:GREGORIAN
BEGIN:VEVENT
UID:25627542-d238-11f0-bcb5-0a58a9feac02
DTSTAMP:20251216T214637Z
SUMMARY:5th Girls Basketball Practice
URL;VALUE=URI:https://www.brookfieldchristian.org/athletics/basketball-5th-
 girls/calendar/8818852/5th-girls-basketball-practice
DTSTART:20251210T213000Z
DTEND:20251210T224500Z
END:VEVENT
END:VCALENDAR
