BEGIN:VCALENDAR
VERSION:2.0
PRODID:SchoolNow
CALSCALE:GREGORIAN
BEGIN:VEVENT
UID:80fb1876-ae86-11f0-ad07-0afff4320b3d
DTSTAMP:20251216T200016Z
SUMMARY:6th Girls Game @ Mt Calvary Lutheran
LOCATION:Mount Calvary Lutheran Church\, 1941 Madison St\, Waukesha\, WI 53
 188\, USA
URL;VALUE=URI:https://www.brookfieldchristian.org/athletics/basketball-6th-
 girls/calendar/8738198/6th-girls-game-mt-calvary-lutheran
DTSTART:20251204T220000Z
DTEND:20251204T225000Z
END:VEVENT
END:VCALENDAR
