BEGIN:VCALENDAR
VERSION:2.0
PRODID:SchoolNow
CALSCALE:GREGORIAN
BEGIN:VEVENT
UID:80fb2370-ae86-11f0-bb01-0afff4320b3d
DTSTAMP:20251216T200016Z
SUMMARY:6th Girls Basketball Practice
URL;VALUE=URI:https://www.brookfieldchristian.org/athletics/basketball-6th-
 girls/calendar/8738203/6th-girls-basketball-practice
DTSTART:20251216T213000Z
DTEND:20251216T230000Z
END:VEVENT
END:VCALENDAR
