BEGIN:VCALENDAR
VERSION:2.0
PRODID:SchoolNow
CALSCALE:GREGORIAN
BEGIN:VEVENT
UID:3d88cdbc-aeb9-11f0-b4cb-028c60034ced
DTSTAMP:20251216T200016Z
SUMMARY:6th Girls Game vs Divine Redeemer
URL;VALUE=URI:https://www.brookfieldchristian.org/athletics/basketball-6th-
 girls/calendar/8739828/6th-girls-game-vs-divine-redeemer
DTSTART:20251216T003000Z
DTEND:20251216T013000Z
END:VEVENT
END:VCALENDAR
