BEGIN:VCALENDAR
VERSION:2.0
PRODID:SchoolNow
CALSCALE:GREGORIAN
BEGIN:VEVENT
UID:49676228-aeec-11f0-90f5-0a58a9feac02
DTSTAMP:20251216T200016Z
SUMMARY:6th Girls Game Vs Hales Corners
URL;VALUE=URI:https://www.brookfieldchristian.org/athletics/basketball-6th-
 girls/calendar/8740977/6th-girls-game-vs-hales-corners
DTSTART:20251208T233000Z
DTEND:20251209T003000Z
END:VEVENT
END:VCALENDAR
