BEGIN:VCALENDAR
VERSION:2.0
PRODID:SchoolNow
CALSCALE:GREGORIAN
BEGIN:VEVENT
UID:496765c0-aeec-11f0-8e48-0a58a9feac02
DTSTAMP:20251216T200016Z
SUMMARY:6th Girls Game @ Divine Redeemer
LOCATION:Divine Redeemer Lutheran School\, 31385 Hill Rd\, Hartland\, WI 53
 029\, USA
URL;VALUE=URI:https://www.brookfieldchristian.org/athletics/basketball-6th-
 girls/calendar/8740978/6th-girls-game-divine-redeemer
DTSTART:20260107T013000Z
DTEND:20260107T023000Z
END:VEVENT
END:VCALENDAR
