BEGIN:VCALENDAR
VERSION:2.0
PRODID:SchoolNow
CALSCALE:GREGORIAN
BEGIN:VEVENT
UID:49676700-aeec-11f0-94c9-0a58a9feac02
DTSTAMP:20251216T200016Z
SUMMARY:6th Girls Game vs St Marcus
URL;VALUE=URI:https://www.brookfieldchristian.org/athletics/basketball-6th-
 girls/calendar/8740979/6th-girls-game-vs-st-marcus
DTSTART:20260112T233000Z
DTEND:20260113T003000Z
END:VEVENT
END:VCALENDAR
