BEGIN:VCALENDAR
VERSION:2.0
PRODID:SchoolNow
CALSCALE:GREGORIAN
BEGIN:VEVENT
UID:49676818-aeec-11f0-aa41-0a58a9feac02
DTSTAMP:20251216T200016Z
SUMMARY:6th Girls Game @ Heritage Christian
LOCATION:Heritage Christian Schools\, 3500 S Glen Park Rd\, New Berlin\, WI
  53151\, USA
URL;VALUE=URI:https://www.brookfieldchristian.org/athletics/basketball-6th-
 girls/calendar/8740980/6th-girls-game-heritage-christian
DTSTART:20260115T220000Z
DTEND:20260115T230000Z
END:VEVENT
END:VCALENDAR
