BEGIN:VCALENDAR
VERSION:2.0
PRODID:SchoolNow
CALSCALE:GREGORIAN
BEGIN:VEVENT
UID:496769e4-aeec-11f0-9af8-0a58a9feac02
DTSTAMP:20251216T200016Z
SUMMARY:6th Girls Game @ Brookfield Academy
LOCATION:Brookfield Academy\, 3462 N Brookfield Rd\, Brookfield\, WI 53045\
 , USA
URL;VALUE=URI:https://www.brookfieldchristian.org/athletics/basketball-6th-
 girls/calendar/8740981/6th-girls-game-brookfield-academy
DTSTART:20260119T230000Z
DTEND:20260120T000000Z
END:VEVENT
END:VCALENDAR
