BEGIN:VCALENDAR
VERSION:2.0
PRODID:SchoolNow
CALSCALE:GREGORIAN
BEGIN:VEVENT
UID:49676ae8-aeec-11f0-8173-0a58a9feac02
DTSTAMP:20251216T200016Z
SUMMARY:6th Girls Game Vs FIL - Cedarburg
URL;VALUE=URI:https://www.brookfieldchristian.org/athletics/basketball-6th-
 girls/calendar/8740982/6th-girls-game-vs-fil-cedarburg
DTSTART:20260122T233000Z
DTEND:20260123T003000Z
END:VEVENT
END:VCALENDAR
