BEGIN:VCALENDAR
VERSION:2.0
PRODID:SchoolNow
CALSCALE:GREGORIAN
BEGIN:VEVENT
UID:49676bd8-aeec-11f0-bae1-0a58a9feac02
DTSTAMP:20251216T200016Z
SUMMARY:6th Girls Basketball Practice
URL;VALUE=URI:https://www.brookfieldchristian.org/athletics/basketball-6th-
 girls/calendar/8740983/6th-girls-basketball-practice
DTSTART:20251104T213000Z
DTEND:20251104T230000Z
END:VEVENT
END:VCALENDAR
