BEGIN:VCALENDAR
VERSION:2.0
PRODID:SchoolNow
CALSCALE:GREGORIAN
BEGIN:VEVENT
UID:cd6ecf56-af83-11f0-8289-0a58a9feac02
DTSTAMP:20251216T200016Z
SUMMARY:6th Girls Game @ St Paul’s Grafton
LOCATION:St. Paul Lutheran Church and School\, 701 Washington St\, Grafton\
 , WI 53024\, USA
URL;VALUE=URI:https://www.brookfieldchristian.org/athletics/basketball-6th-
 girls/calendar/8743230/6th-girls-game-st-paul-s-grafton
DTSTART:20260108T233000Z
DTEND:20260109T003000Z
END:VEVENT
END:VCALENDAR
