BEGIN:VCALENDAR
VERSION:2.0
PRODID:SchoolNow
CALSCALE:GREGORIAN
BEGIN:VEVENT
UID:c6e5e560-b448-11f0-842a-0a58a9feac02
DTSTAMP:20251216T200016Z
SUMMARY:6th Girls Basketball Practice
URL;VALUE=URI:https://www.brookfieldchristian.org/athletics/basketball-6th-
 girls/calendar/8757820/6th-girls-basketball-practice
DTSTART:20251119T213000Z
DTEND:20251119T224500Z
END:VEVENT
END:VCALENDAR
