BEGIN:VCALENDAR
VERSION:2.0
PRODID:SchoolNow
CALSCALE:GREGORIAN
BEGIN:VEVENT
UID:ae9b2322-ca31-11f0-967b-02b77bf213c1
DTSTAMP:20251216T200016Z
SUMMARY:6th Girls Practice
URL;VALUE=URI:https://www.brookfieldchristian.org/athletics/basketball-6th-
 girls/calendar/8809745/6th-girls-practice
DTSTART:20251203T213000Z
DTEND:20251203T224500Z
END:VEVENT
END:VCALENDAR
