BEGIN:VCALENDAR
VERSION:2.0
PRODID:SchoolNow
CALSCALE:GREGORIAN
BEGIN:VEVENT
UID:d735b96c-dab9-11f0-9b88-0a58a9feac02
DTSTAMP:20251216T200016Z
SUMMARY:6th Girls Basketball Practice
URL;VALUE=URI:https://www.brookfieldchristian.org/athletics/basketball-6th-
 girls/calendar/8825072/6th-girls-basketball-practice
DTSTART:20251229T180000Z
DTEND:20251229T193000Z
END:VEVENT
END:VCALENDAR
