BEGIN:VCALENDAR
VERSION:2.0
PRODID:SchoolNow
CALSCALE:GREGORIAN
BEGIN:VEVENT
UID:d735bf98-dab9-11f0-ae5a-0a58a9feac02
DTSTAMP:20251216T200016Z
SUMMARY:6th Girls Basketball Practice
URL;VALUE=URI:https://www.brookfieldchristian.org/athletics/basketball-6th-
 girls/calendar/8825074/6th-girls-basketball-practice
DTSTART:20251230T170000Z
DTEND:20251230T183000Z
END:VEVENT
END:VCALENDAR
