BEGIN:VCALENDAR
VERSION:2.0
PRODID:SchoolNow
CALSCALE:GREGORIAN
BEGIN:VEVENT
UID:600220ae-acad-11f0-88a3-0affde1e5d8f
DTSTAMP:20260421T211031Z
SUMMARY:5th Boys Basketball Practice
URL;VALUE=URI:https://www.brookfieldchristian.org/athletics/basketball-boys
 -5th/calendar/8732888/5th-boys-basketball-practice
DTSTART:20260126T213000Z
DTEND:20260126T230000Z
END:VEVENT
END:VCALENDAR
