BEGIN:VCALENDAR
VERSION:2.0
PRODID:SchoolNow
CALSCALE:GREGORIAN
BEGIN:VEVENT
UID:cdeaf532-aef6-11f0-b91e-0e6628c9df39
DTSTAMP:20260421T211031Z
SUMMARY:5th Boys Game @ Divine Redeemer
LOCATION:Divine Redeemer Lutheran School\, 31385 Hill Rd\, Hartland\, WI 53
 029\, USA
URL;VALUE=URI:https://www.brookfieldchristian.org/athletics/basketball-boys
 -5th/calendar/8740990/5th-boys-game-divine-redeemer
DTSTART:20260107T003000Z
DTEND:20260107T013000Z
END:VEVENT
END:VCALENDAR
