BEGIN:VCALENDAR
VERSION:2.0
PRODID:SchoolNow
CALSCALE:GREGORIAN
BEGIN:VEVENT
UID:cdeaf884-aef6-11f0-acc2-0e6628c9df39
DTSTAMP:20260421T211031Z
SUMMARY:5th Boys Game Vs St Paul’s Grafton
URL;VALUE=URI:https://www.brookfieldchristian.org/athletics/basketball-boys
 -5th/calendar/8740991/5th-boys-game-vs-st-paul-s-grafton
DTSTART:20260108T223000Z
DTEND:20260108T233000Z
END:VEVENT
END:VCALENDAR
