BEGIN:VCALENDAR
VERSION:2.0
PRODID:SchoolNow
CALSCALE:GREGORIAN
BEGIN:VEVENT
UID:cdeafcd0-aef6-11f0-b532-0e6628c9df39
DTSTAMP:20260421T211031Z
SUMMARY:5th Boys Basketball Practice
URL;VALUE=URI:https://www.brookfieldchristian.org/athletics/basketball-boys
 -5th/calendar/8740995/5th-boys-basketball-practice
DTSTART:20260115T213000Z
DTEND:20260115T230000Z
END:VEVENT
END:VCALENDAR
