BEGIN:VCALENDAR
VERSION:2.0
PRODID:SchoolNow
CALSCALE:GREGORIAN
BEGIN:VEVENT
UID:cdeafdb6-aef6-11f0-9c0b-0e6628c9df39
DTSTAMP:20260421T211031Z
SUMMARY:5th Boys Game Vs Brookfield Academy
URL;VALUE=URI:https://www.brookfieldchristian.org/athletics/basketball-boys
 -5th/calendar/8740996/5th-boys-game-vs-brookfield-academy
DTSTART:20260119T223000Z
DTEND:20260119T233000Z
END:VEVENT
END:VCALENDAR
