BEGIN:VCALENDAR
VERSION:2.0
PRODID:SchoolNow
CALSCALE:GREGORIAN
BEGIN:VEVENT
UID:cdeafe92-aef6-11f0-b7ae-0e6628c9df39
DTSTAMP:20260421T211031Z
SUMMARY:5th Boys Game @ FIL - Cedarburg
LOCATION:First Immanuel Lutheran Church & School\, W67N622 Evergreen Blvd\,
  Cedarburg\, WI 53012\, USA
URL;VALUE=URI:https://www.brookfieldchristian.org/athletics/basketball-boys
 -5th/calendar/8740997/5th-boys-game-fil-cedarburg
DTSTART:20260122T223000Z
DTEND:20260122T233000Z
END:VEVENT
END:VCALENDAR
