BEGIN:VCALENDAR
VERSION:2.0
PRODID:SchoolNow
CALSCALE:GREGORIAN
BEGIN:VEVENT
UID:cdeaff6e-aef6-11f0-8fbc-0e6628c9df39
DTSTAMP:20260421T150536Z
SUMMARY:5th Boys Game @ Star of Bethlehem
LOCATION:Star of Bethlehem Lutheran School\, 3700 S Casper Dr\, New Berlin\
 , WI 53151\, USA
URL;VALUE=URI:https://www.brookfieldchristian.org/athletics/basketball-boys
 -5th/calendar/8740998/5th-boys-game-star-of-bethlehem
DTSTART:20260203T234000Z
DTEND:20260204T003000Z
END:VEVENT
END:VCALENDAR
