BEGIN:VCALENDAR
VERSION:2.0
PRODID:SchoolNow
CALSCALE:GREGORIAN
BEGIN:VEVENT
UID:68d3f562-cd3d-11f0-97b9-0a58a9feac02
DTSTAMP:20260421T150536Z
SUMMARY:5th Boys Vs SWCHA
URL;VALUE=URI:https://www.brookfieldchristian.org/athletics/basketball-boys
 -5th/calendar/8812777/5th-boys-vs-swcha
DTSTART:20260205T230000Z
DTEND:20260206T000000Z
END:VEVENT
END:VCALENDAR
