BEGIN:VCALENDAR
VERSION:2.0
PRODID:SchoolNow
CALSCALE:GREGORIAN
BEGIN:VEVENT
UID:04f3a1aa-d535-11f0-a72b-0a58a9feac02
DTSTAMP:20260421T211031Z
SUMMARY:5th Boys Basketball Practice
URL;VALUE=URI:https://www.brookfieldchristian.org/athletics/basketball-boys
 -5th/calendar/8820681/5th-boys-basketball-practice
DTSTART:20251229T213000Z
DTEND:20251229T223000Z
END:VEVENT
END:VCALENDAR
