BEGIN:VCALENDAR
VERSION:2.0
PRODID:SchoolNow
CALSCALE:GREGORIAN
BEGIN:VEVENT
UID:04f3c702-d535-11f0-a3cf-0a58a9feac02
DTSTAMP:20260421T211031Z
SUMMARY:5th Boys Basketball Practice
URL;VALUE=URI:https://www.brookfieldchristian.org/athletics/basketball-boys
 -5th/calendar/8820682/5th-boys-basketball-practice
DTSTART:20260102T150000Z
DTEND:20260102T160000Z
END:VEVENT
END:VCALENDAR
