BEGIN:VCALENDAR
VERSION:2.0
PRODID:SchoolNow
CALSCALE:GREGORIAN
BEGIN:VEVENT
UID:c726b678-ea51-11f0-a567-0a58a9feac02
DTSTAMP:20260421T211031Z
SUMMARY:5th Boys Vs St Paul’s
LOCATION:St. Paul Lutheran Church and School\, 701 Washington St\, Grafton\
 , WI 53024\, USA
URL;VALUE=URI:https://www.brookfieldchristian.org/athletics/basketball-boys
 -5th/calendar/8828760/5th-boys-vs-st-paul-s
DTSTART:20260117T180000Z
DTEND:20260117T190000Z
END:VEVENT
END:VCALENDAR
