BEGIN:VCALENDAR
VERSION:2.0
PRODID:SchoolNow
CALSCALE:GREGORIAN
BEGIN:VEVENT
UID:c726b966-ea51-11f0-9dae-0a58a9feac02
DTSTAMP:20260421T211031Z
SUMMARY:5th Boys Vs Trinity Freistadt
LOCATION:St. Paul Lutheran Church and School\, 701 Washington St\, Grafton\
 , WI 53024\, USA
URL;VALUE=URI:https://www.brookfieldchristian.org/athletics/basketball-boys
 -5th/calendar/8828761/5th-boys-vs-trinity-freistadt
DTSTART:20260117T150000Z
DTEND:20260117T160000Z
END:VEVENT
END:VCALENDAR
