BEGIN:VCALENDAR
VERSION:2.0
PRODID:SchoolNow
CALSCALE:GREGORIAN
BEGIN:VEVENT
UID:9c53a408-ac9c-11f0-a893-0a58a9feac02
DTSTAMP:20251216T200039Z
SUMMARY:6th Boys Basketball Practice
URL;VALUE=URI:https://www.brookfieldchristian.org/athletics/basketball-boys
 -6th/calendar/8732808/6th-boys-basketball-practice
DTSTART:20251030T203000Z
DTEND:20251030T220000Z
END:VEVENT
END:VCALENDAR
