BEGIN:VCALENDAR
VERSION:2.0
PRODID:SchoolNow
CALSCALE:GREGORIAN
BEGIN:VEVENT
UID:9c53b77c-ac9c-11f0-9c87-0a58a9feac02
DTSTAMP:20251216T200039Z
SUMMARY:6th Boys Basketball Practice
URL;VALUE=URI:https://www.brookfieldchristian.org/athletics/basketball-boys
 -6th/calendar/8732838/6th-boys-basketball-practice
DTSTART:20251211T213000Z
DTEND:20251211T230000Z
END:VEVENT
END:VCALENDAR
