BEGIN:VCALENDAR
VERSION:2.0
PRODID:SchoolNow
CALSCALE:GREGORIAN
BEGIN:VEVENT
UID:c7aef586-ae1c-11f0-a747-0afffe1aa873
DTSTAMP:20251216T200039Z
SUMMARY:6th Boys Game Vs Aquinas
URL;VALUE=URI:https://www.brookfieldchristian.org/athletics/basketball-boys
 -6th/calendar/8737203/6th-boys-game-vs-aquinas
DTSTART:20251118T230000Z
DTEND:20251119T000000Z
END:VEVENT
END:VCALENDAR
