BEGIN:VCALENDAR
VERSION:2.0
PRODID:SchoolNow
CALSCALE:GREGORIAN
BEGIN:VEVENT
UID:c7aef8ec-ae1c-11f0-8cd1-0afffe1aa873
DTSTAMP:20251216T200039Z
SUMMARY:6th Boys Game vs St Paul’s
URL;VALUE=URI:https://www.brookfieldchristian.org/athletics/basketball-boys
 -6th/calendar/8737204/6th-boys-game-vs-st-paul-s
DTSTART:20251202T001500Z
DTEND:20251202T011500Z
END:VEVENT
END:VCALENDAR
